BEGIN:VCALENDAR
VERSION:2.0
PRODID:DPCALENDAR
CALSCALE:GREGORIAN
BEGIN:VTIMEZONE
TZID:Europe/London
X-MICROSOFT-CDO-TZID:1
BEGIN:STANDARD
DTSTART:20251026T010000
TZOFFSETFROM:+0100
TZOFFSETTO:+0000
TZNAME:GMT
END:STANDARD
BEGIN:STANDARD
DTSTART:20261025T010000
TZOFFSETFROM:+0100
TZOFFSETTO:+0000
TZNAME:GMT
END:STANDARD
BEGIN:DAYLIGHT
DTSTART:20260329T010000
TZOFFSETFROM:+0000
TZOFFSETTO:+0100
TZNAME:BST
END:DAYLIGHT
END:VTIMEZONE
X-WR-TIMEZONE:Europe/London
BEGIN:VEVENT
DTSTART;TZID=Europe/London:20160611T190000
DTEND;TZID=Europe/London:20160611T200000
UID:FC0784D0-040E-4008-A096-38C7F0E648D0
SUMMARY:Bible Teaching Meeting, Mark Hill
CREATED:20160218T172700Z
DTSTAMP:20160218T172700Z
URL:http://www.lancastergospelhall.org.uk/index.php/activities/bible-teaching-meeting-6
DESCRIPTION:Join us for Bible Teaching with Mark Hill, Warsash.
X-ALT-DESC;FMTTYPE=text/html:<p>Join us for Bible Teaching with Mark Hill, Warsash.</p>
LAST-MODIFIED:20160327T133459Z
SEQUENCE:3269279
LOCATION:Tollgate Lane\, IP32 6DF Bury St Edmunds\, United Kingdom
GEO:52.25881983;0.70398331
X-LOCATION-DISPLAYNAME:Lancaster Hall
X-ACCESS:1
X-HITS:1591
X-COLOR:5A3085
X-SHOW-END-TIME:1
END:VEVENT
END:VCALENDAR